BEGIN:VCALENDAR
VERSION:2.0
PRODID:-//ChamberMaster//Event Calendar 2.0//EN
METHOD:PUBLISH
X-PUBLISHED-TTL:P1H
REFRESH-INTERVAL:P1H
CALSCALE:GREGORIAN
BEGIN:VTIMEZONE
TZID:America/New_York
BEGIN:DAYLIGHT
RRULE:FREQ=YEARLY;BYMONTH=3;BYDAY=2SU
DTSTART:20070101T000000
TZOFFSETFROM:-0500
TZOFFSETTO:-0400
TZNAME:Eastern Daylight Time
END:DAYLIGHT
BEGIN:STANDARD
RRULE:FREQ=YEARLY;BYMONTH=11;BYDAY=1SU
DTSTART:20070101T000000
TZOFFSETFROM:-0400
TZOFFSETTO:-0500
TZNAME:Eastern Standard Time
END:STANDARD
END:VTIMEZONE
BEGIN:VEVENT
DTSTART;TZID=America/New_York:20250924T160000
DTEND;TZID=America/New_York:20250924T200000
X-MICROSOFT-CDO-ALLDAYEVENT:FALSE
SUMMARY:Capital Access Workshop
DESCRIPTION:Join us in Niles\, MI for a Capital Access Workshop at 2Ten Main with Old National Bank and the Emerge Innovation Hub. The 4PM workshop and 6PM reception are FREE and will feature food from Jim's Smokin' Cafe. Come learn how we have helped businesses access over $10M in financing in less than 4 years! The workshop is designed for small business owners and supporters who want to learn more about our Capital Coaching program. The 6PM reception is open to anyone who wants to connect with leaders and small business owners impacting our region. Both programs are FREE\, but please RSVP soon so I know how much food to order! RSVP here: https://zfrmz.com/QZPNaDzhnhKxkvOB2Ex3
X-ALT-DESC;FMTTYPE=text/html:<!DOCTYPE html><html><head><title></title></head><body aria-disabled="false"><p>Join us in Niles\, MI for a Capital Access Workshop at 2Ten Main with Old National Bank and the Emerge Innovation Hub. The 4PM workshop and 6PM reception are FREE and will feature food from Jim&#39\;s Smokin&#39\; Cafe. Come learn how we have helped businesses access over $10M in financing in less than 4 years! The workshop is designed for small business owners and supporters who want to learn more about our Capital Coaching program. The 6PM reception is open to anyone who wants to connect with leaders and small business owners impacting our region. Both programs are FREE\, but please RSVP soon so I know how much food to order! RSVP here: <a fr-original-style="" href="https://zfrmz.com/QZPNaDzhnhKxkvOB2Ex3" style="user-select: auto\;">https://zfrmz.com/QZPNaDzhnhKxkvOB2Ex3</a></p></body></html>
LOCATION:210 E Main St Suite 201 Niles MI 49120
UID:e.3355.1276364
SEQUENCE:3
DTSTAMP:20260422T084747Z
URL:https://business.greaternileschamber.com/calendar/Details/capital-access-workshop-1494648?sourceTypeId=Hub
END:VEVENT
END:VCALENDAR
